BEGIN:VCALENDAR
PRODID:-//HKUST Drupal Platform//EN
VERSION:2.0
BEGIN:VTIMEZONE
TZID:Asia/Hong_Kong
BEGIN:STANDARD
DTSTART:20071104T020000
TZOFFSETFROM:+0700
TZOFFSETTO:+0800
TZNAME:HKT
END:STANDARD
END:VTIMEZONE
BEGIN:VEVENT
DTSTAMP;TZID=Asia/Hong_Kong:20260420T221221
DTSTART;TZID=Asia/Hong_Kong:20250925T160000
DTEND;TZID=Asia/Hong_Kong:20250925T190000
LOCATION:Room 2408 (Lifts 17-18), 2/F Academic Building, HKUST
SUMMARY:PHD in Computer Science & Engg - Application-Aware Communication Optimization for Distributed Systems
UID:45246
END:VEVENT
END:VCALENDAR