BEGIN:VCALENDAR
PRODID:-//HKUST Drupal Platform//EN
VERSION:2.0
BEGIN:VTIMEZONE
TZID:Asia/Hong_Kong
BEGIN:STANDARD
DTSTART:20071104T020000
TZOFFSETFROM:+0700
TZOFFSETTO:+0800
TZNAME:HKT
END:STANDARD
END:VTIMEZONE
BEGIN:VEVENT
DTSTAMP;TZID=Asia/Hong_Kong:20260420T152307
DTSTART;TZID=Asia/Hong_Kong:20250922T133000
DTEND;TZID=Asia/Hong_Kong:20250922T163000
LOCATION: , HKUST
SUMMARY:PHD in Individual Interdisci Prog - Diffusion policies for offline reinforcement learning
UID:45175
END:VEVENT
END:VCALENDAR