BEGIN:VCALENDAR
PRODID:-//HKUST Drupal Platform//EN
VERSION:2.0
BEGIN:VTIMEZONE
TZID:Asia/Hong_Kong
BEGIN:STANDARD
DTSTART:20071104T020000
TZOFFSETFROM:+0700
TZOFFSETTO:+0800
TZNAME:HKT
END:STANDARD
END:VTIMEZONE
BEGIN:VEVENT
DTSTAMP;TZID=Asia/Hong_Kong:20260420T235102
DTSTART;TZID=Asia/Hong_Kong:20251031T140000
DTEND;TZID=Asia/Hong_Kong:20251031T170000
LOCATION: , HKUST
SUMMARY:MPhil in Chemistry - Modeling Phase Separation of SARS-CoV-2 RNA-Nucleocapsid Protein Complexes
UID:45170
END:VEVENT
END:VCALENDAR