BEGIN:VCALENDAR
PRODID:-//HKUST Drupal Platform//EN
VERSION:2.0
BEGIN:VTIMEZONE
TZID:Asia/Hong_Kong
BEGIN:STANDARD
DTSTART:20071104T020000
TZOFFSETFROM:+0700
TZOFFSETTO:+0800
TZNAME:HKT
END:STANDARD
END:VTIMEZONE
BEGIN:VEVENT
DTSTAMP;TZID=Asia/Hong_Kong:20260420T221224
DTSTART;TZID=Asia/Hong_Kong:20250909T110000
DTEND;TZID=Asia/Hong_Kong:20250909T150000
LOCATION:Shaw Auditorium Room 209 (2/F) 
SUMMARY:Collect Your Free Reusable Glass Food Container
UID:45131
END:VEVENT
BEGIN:VEVENT
DTSTAMP;TZID=Asia/Hong_Kong:20260420T221224
DTSTART;TZID=Asia/Hong_Kong:20250910T110000
DTEND;TZID=Asia/Hong_Kong:20250910T150000
LOCATION:Shaw Auditorium Room 209 (2/F) 
SUMMARY:Collect Your Free Reusable Glass Food Container
UID:45131
END:VEVENT
BEGIN:VEVENT
DTSTAMP;TZID=Asia/Hong_Kong:20260420T221224
DTSTART;TZID=Asia/Hong_Kong:20250911T110000
DTEND;TZID=Asia/Hong_Kong:20250911T150000
LOCATION:Shaw Auditorium Room 209 (2/F) 
SUMMARY:Collect Your Free Reusable Glass Food Container
UID:45131
END:VEVENT
BEGIN:VEVENT
DTSTAMP;TZID=Asia/Hong_Kong:20260420T221224
DTSTART;TZID=Asia/Hong_Kong:20250912T110000
DTEND;TZID=Asia/Hong_Kong:20250912T150000
LOCATION:Shaw Auditorium Room 209 (2/F) 
SUMMARY:Collect Your Free Reusable Glass Food Container
UID:45131
END:VEVENT
END:VCALENDAR