BEGIN:VCALENDAR
PRODID:-//HKUST Drupal Platform//EN
VERSION:2.0
BEGIN:VTIMEZONE
TZID:Asia/Hong_Kong
BEGIN:STANDARD
DTSTART:20071104T020000
TZOFFSETFROM:+0700
TZOFFSETTO:+0800
TZNAME:HKT
END:STANDARD
END:VTIMEZONE
BEGIN:VEVENT
DTSTAMP;TZID=Asia/Hong_Kong:20260420T222023
DTSTART;TZID=Asia/Hong_Kong:20250910T140000
DTEND;TZID=Asia/Hong_Kong:20250910T153000
LOCATION:Room 1104, 1/F (Lift 19), Academic Building
SUMMARY:Department of Chemistry Seminar - New Avenues in Synthesis via Organic Photoredox Catalysis
UID:45123
END:VEVENT
END:VCALENDAR