BEGIN:VCALENDAR
PRODID:-//HKUST Drupal Platform//EN
VERSION:2.0
BEGIN:VTIMEZONE
TZID:Asia/Hong_Kong
BEGIN:STANDARD
DTSTART:20071104T020000
TZOFFSETFROM:+0700
TZOFFSETTO:+0800
TZNAME:HKT
END:STANDARD
END:VTIMEZONE
BEGIN:VEVENT
DTSTAMP;TZID=Asia/Hong_Kong:20260421T211941
DTSTART;TZID=Asia/Hong_Kong:20260121T150000
DTEND;TZID=Asia/Hong_Kong:20260121T180000
LOCATION: , HKUST
SUMMARY:PHD in Chemistry - Interface Engineering of Polymeric Transport Layers and Antisolvent Processing for High-Performance Scalable Perovskite and Nanocrystal Solar Cells
UID:45097
END:VEVENT
END:VCALENDAR