BEGIN:VCALENDAR
PRODID:-//HKUST Drupal Platform//EN
VERSION:2.0
BEGIN:VTIMEZONE
TZID:Asia/Hong_Kong
BEGIN:STANDARD
DTSTART:20071104T020000
TZOFFSETFROM:+0700
TZOFFSETTO:+0800
TZNAME:HKT
END:STANDARD
END:VTIMEZONE
BEGIN:VEVENT
DTSTAMP;TZID=Asia/Hong_Kong:20260425T111631
DTSTART;TZID=Asia/Hong_Kong:20251003T130000
DTEND;TZID=Asia/Hong_Kong:20251003T160000
LOCATION:Foyer, Shaw Auditorium
SUMMARY:Moonlit Delights @ SA 歡聚逸堂慶中秋 2025
UID:45093
END:VEVENT
END:VCALENDAR