BEGIN:VCALENDAR
PRODID:-//HKUST Drupal Platform//EN
VERSION:2.0
BEGIN:VTIMEZONE
TZID:Asia/Hong_Kong
BEGIN:STANDARD
DTSTART:20071104T020000
TZOFFSETFROM:+0700
TZOFFSETTO:+0800
TZNAME:HKT
END:STANDARD
END:VTIMEZONE
BEGIN:VEVENT
DTSTAMP;TZID=Asia/Hong_Kong:20260420T215422
DTSTART;TZID=Asia/Hong_Kong:20250822T110000
DTEND;TZID=Asia/Hong_Kong:20250822T120000
LOCATION:Room 6006A, 6/F (Lifts 35-36), Cheng Yu Tung Building
SUMMARY:Department of Chemistry Seminar - Polymer Solar Cells Fabricated with Printed Transparent Electrode and Active Layers
UID:45037
END:VEVENT
END:VCALENDAR