BEGIN:VCALENDAR
PRODID:-//HKUST Drupal Platform//EN
VERSION:2.0
BEGIN:VTIMEZONE
TZID:Asia/Hong_Kong
BEGIN:STANDARD
DTSTART:20071104T020000
TZOFFSETFROM:+0700
TZOFFSETTO:+0800
TZNAME:HKT
END:STANDARD
END:VTIMEZONE
BEGIN:VEVENT
DTSTAMP;TZID=Asia/Hong_Kong:20260420T152209
DTSTART;TZID=Asia/Hong_Kong:20250826T133000
DTEND;TZID=Asia/Hong_Kong:20250826T150000
LOCATION:Room 2504 (lift 25/26), Academic Building
SUMMARY:ECE Seminar  - Smart Environmental Monitoring by Low-Power / Self-Powered Gas Sensors and Artificial Intelligence  
UID:45024
END:VEVENT
END:VCALENDAR