BEGIN:VCALENDAR
PRODID:-//HKUST Drupal Platform//EN
VERSION:2.0
BEGIN:VTIMEZONE
TZID:Asia/Hong_Kong
BEGIN:STANDARD
DTSTART:20071104T020000
TZOFFSETFROM:+0700
TZOFFSETTO:+0800
TZNAME:HKT
END:STANDARD
END:VTIMEZONE
BEGIN:VEVENT
DTSTAMP;TZID=Asia/Hong_Kong:20260420T221930
DTSTART;TZID=Asia/Hong_Kong:20250819T100000
DTEND;TZID=Asia/Hong_Kong:20250819T130000
LOCATION:Room 4472, HKUST
SUMMARY:PHD in Individual Interdisci Prog - Modeling Functional Neural Connectivity in Point Process Filtering for Brain-machine Interface
UID:44951
END:VEVENT
END:VCALENDAR