BEGIN:VCALENDAR
PRODID:-//HKUST Drupal Platform//EN
VERSION:2.0
BEGIN:VTIMEZONE
TZID:Asia/Hong_Kong
BEGIN:STANDARD
DTSTART:20071104T020000
TZOFFSETFROM:+0700
TZOFFSETTO:+0800
TZNAME:HKT
END:STANDARD
END:VTIMEZONE
BEGIN:VEVENT
DTSTAMP;TZID=Asia/Hong_Kong:20260420T152259
DTSTART;TZID=Asia/Hong_Kong:20250919T100000
DTEND;TZID=Asia/Hong_Kong:20250919T130000
LOCATION:Room 3401 (Lift 2, 17-18) , 3/F Academic Building, HKUST
SUMMARY:MPhil in Social Science - Presidential Regime Change and Policy Disruption:Evidence from Affordable Care Act during Trump Administration
UID:44950
END:VEVENT
END:VCALENDAR