BEGIN:VCALENDAR
PRODID:-//HKUST Drupal Platform//EN
VERSION:2.0
BEGIN:VTIMEZONE
TZID:Asia/Hong_Kong
BEGIN:STANDARD
DTSTART:20071104T020000
TZOFFSETFROM:+0700
TZOFFSETTO:+0800
TZNAME:HKT
END:STANDARD
END:VTIMEZONE
BEGIN:VEVENT
DTSTAMP;TZID=Asia/Hong_Kong:20260420T234116
DTSTART;TZID=Asia/Hong_Kong:20250818T130000
DTEND;TZID=Asia/Hong_Kong:20250818T160000
LOCATION:Room 5501 (Lifts 25-26), 5/F Academic Building, HKUST
SUMMARY:PHD in Individual Interdisci Prog - Designing Interactive VR and Visual Analytics Systems for Psychotherapy: A Human-Centered Approach to Support Cognitive Defusion, Reflection, and Therapeutic Monitoring
UID:44846
END:VEVENT
END:VCALENDAR