BEGIN:VCALENDAR
PRODID:-//HKUST Drupal Platform//EN
VERSION:2.0
BEGIN:VTIMEZONE
TZID:Asia/Hong_Kong
BEGIN:STANDARD
DTSTART:20071104T020000
TZOFFSETFROM:+0700
TZOFFSETTO:+0800
TZNAME:HKT
END:STANDARD
END:VTIMEZONE
BEGIN:VEVENT
DTSTAMP;TZID=Asia/Hong_Kong:20260420T221221
DTSTART;TZID=Asia/Hong_Kong:20250819T100000
DTEND;TZID=Asia/Hong_Kong:20250819T130000
LOCATION:Room 3494, (lift 25-26), 3/F Academic Building, HKUST
SUMMARY:PHD in Integrative Sys & Design - Laser-Crafted Superhydrophobic/Superhydrophilic Surfaces for Interfacial Wetting System Construction, Mechanism Investigation, and Application Exploration
UID:44845
END:VEVENT
END:VCALENDAR