BEGIN:VCALENDAR
PRODID:-//HKUST Drupal Platform//EN
VERSION:2.0
BEGIN:VTIMEZONE
TZID:Asia/Hong_Kong
BEGIN:STANDARD
DTSTART:20071104T020000
TZOFFSETFROM:+0700
TZOFFSETTO:+0800
TZNAME:HKT
END:STANDARD
END:VTIMEZONE
BEGIN:VEVENT
DTSTAMP;TZID=Asia/Hong_Kong:20260420T222016
DTSTART;TZID=Asia/Hong_Kong:20250818T140000
DTEND;TZID=Asia/Hong_Kong:20250818T170000
LOCATION:Room 2611, HKUST
SUMMARY:PHD in Individual Interdisci Prog - LiDAR-Inertial-Visual Multi-Sensor Fusion for Localization and Mapping with Gaussian Splatting
UID:44835
END:VEVENT
END:VCALENDAR