BEGIN:VCALENDAR
PRODID:-//HKUST Drupal Platform//EN
VERSION:2.0
BEGIN:VTIMEZONE
TZID:Asia/Hong_Kong
BEGIN:STANDARD
DTSTART:20071104T020000
TZOFFSETFROM:+0700
TZOFFSETTO:+0800
TZNAME:HKT
END:STANDARD
END:VTIMEZONE
BEGIN:VEVENT
DTSTAMP;TZID=Asia/Hong_Kong:20260420T221218
DTSTART;TZID=Asia/Hong_Kong:20250825T153000
DTEND;TZID=Asia/Hong_Kong:20250825T183000
LOCATION:E3, 2F, Room 202, HKUST(GZ), HKUST
SUMMARY:PHD in Individual Interdisci Prog - Alter Nature: Exploring Life in Computational Art
UID:44834
END:VEVENT
END:VCALENDAR