BEGIN:VCALENDAR
PRODID:-//HKUST Drupal Platform//EN
VERSION:2.0
BEGIN:VTIMEZONE
TZID:Asia/Hong_Kong
BEGIN:STANDARD
DTSTART:20071104T020000
TZOFFSETFROM:+0700
TZOFFSETTO:+0800
TZNAME:HKT
END:STANDARD
END:VTIMEZONE
BEGIN:VEVENT
DTSTAMP;TZID=Asia/Hong_Kong:20260421T005056
DTSTART;TZID=Asia/Hong_Kong:20250829T100000
DTEND;TZID=Asia/Hong_Kong:20250829T130000
LOCATION: , HKUST
SUMMARY:PHD in Electronic & Comp Engg - Advancing Point-of-Care Diagnostics: Automated, High-throughput, Microfluidic Platforms for Autoimmune Disease Biomarker Detection
UID:44803
END:VEVENT
END:VCALENDAR