BEGIN:VCALENDAR
PRODID:-//HKUST Drupal Platform//EN
VERSION:2.0
BEGIN:VTIMEZONE
TZID:Asia/Hong_Kong
BEGIN:STANDARD
DTSTART:20071104T020000
TZOFFSETFROM:+0700
TZOFFSETTO:+0800
TZNAME:HKT
END:STANDARD
END:VTIMEZONE
BEGIN:VEVENT
DTSTAMP;TZID=Asia/Hong_Kong:20260420T233555
DTSTART;TZID=Asia/Hong_Kong:20250828T100000
DTEND;TZID=Asia/Hong_Kong:20250828T130000
LOCATION: , HKUST
SUMMARY:PHD in Chemistry - Decipher the mutation pattern of SARS-CoV-2 Spike glycoprotein
UID:44799
END:VEVENT
END:VCALENDAR