BEGIN:VCALENDAR
PRODID:-//HKUST Drupal Platform//EN
VERSION:2.0
BEGIN:VTIMEZONE
TZID:Asia/Hong_Kong
BEGIN:STANDARD
DTSTART:20071104T020000
TZOFFSETFROM:+0700
TZOFFSETTO:+0800
TZNAME:HKT
END:STANDARD
END:VTIMEZONE
BEGIN:VEVENT
DTSTAMP;TZID=Asia/Hong_Kong:20260420T233555
DTSTART;TZID=Asia/Hong_Kong:20250812T100000
DTEND;TZID=Asia/Hong_Kong:20250812T130000
LOCATION: , HKUST
SUMMARY:PHD in Individual Interdisci Prog - Integrating Theoretical Analysis, Simulation, and AI for Skyrmion Dynamics
UID:44730
END:VEVENT
END:VCALENDAR