BEGIN:VCALENDAR
PRODID:-//HKUST Drupal Platform//EN
VERSION:2.0
BEGIN:VTIMEZONE
TZID:Asia/Hong_Kong
BEGIN:STANDARD
DTSTART:20071104T020000
TZOFFSETFROM:+0700
TZOFFSETTO:+0800
TZNAME:HKT
END:STANDARD
END:VTIMEZONE
BEGIN:VEVENT
DTSTAMP;TZID=Asia/Hong_Kong:20260420T210644
DTSTART;TZID=Asia/Hong_Kong:20250806T140000
DTEND;TZID=Asia/Hong_Kong:20250806T170000
LOCATION: , HKUST
SUMMARY:PHD in Mechanical Engineering - Towards Efficient and Sustainable Aviation: Trajectory Optimization and Predictive Modeling in Complex Environments
UID:44717
END:VEVENT
END:VCALENDAR