BEGIN:VCALENDAR
PRODID:-//HKUST Drupal Platform//EN
VERSION:2.0
BEGIN:VTIMEZONE
TZID:Asia/Hong_Kong
BEGIN:STANDARD
DTSTART:20071104T020000
TZOFFSETFROM:+0700
TZOFFSETTO:+0800
TZNAME:HKT
END:STANDARD
END:VTIMEZONE
BEGIN:VEVENT
DTSTAMP;TZID=Asia/Hong_Kong:20260421T040132
DTSTART;TZID=Asia/Hong_Kong:20250805T093000
DTEND;TZID=Asia/Hong_Kong:20250805T123000
LOCATION:Room 2302 (Lifts 17-18), 2/F Academic Building,, HKUST
SUMMARY:PHD in Envrl Sci, Policy & Mgmt - Antimicrobial Electrospun Polymer-metal Oxide Composite Filters For Indoor Air Quality Improvement
UID:44708
END:VEVENT
END:VCALENDAR