BEGIN:VCALENDAR
PRODID:-//HKUST Drupal Platform//EN
VERSION:2.0
BEGIN:VTIMEZONE
TZID:Asia/Hong_Kong
BEGIN:STANDARD
DTSTART:20071104T020000
TZOFFSETFROM:+0700
TZOFFSETTO:+0800
TZNAME:HKT
END:STANDARD
END:VTIMEZONE
BEGIN:VEVENT
DTSTAMP;TZID=Asia/Hong_Kong:20260420T222002
DTSTART;TZID=Asia/Hong_Kong:20250813T100000
DTEND;TZID=Asia/Hong_Kong:20250813T130000
LOCATION:Room 2463 (Lifts 25-26), 2/F Academic Building, HKUST
SUMMARY:MPhil in Life Science - Investigating Glial Cell Regulation of Immune Responses in the Brain
UID:44674
END:VEVENT
END:VCALENDAR