BEGIN:VCALENDAR
PRODID:-//HKUST Drupal Platform//EN
VERSION:2.0
BEGIN:VTIMEZONE
TZID:Asia/Hong_Kong
BEGIN:STANDARD
DTSTART:20071104T020000
TZOFFSETFROM:+0700
TZOFFSETTO:+0800
TZNAME:HKT
END:STANDARD
END:VTIMEZONE
BEGIN:VEVENT
DTSTAMP;TZID=Asia/Hong_Kong:20260420T222001
DTSTART;TZID=Asia/Hong_Kong:20250815T133000
DTEND;TZID=Asia/Hong_Kong:20250815T163000
LOCATION:Room 4047, Lee Shau Kee Business Building, HKUST
SUMMARY:PHD in Operations Management - Essays on Auction Applications in Operations Management
UID:44623
END:VEVENT
END:VCALENDAR