BEGIN:VCALENDAR
PRODID:-//HKUST Drupal Platform//EN
VERSION:2.0
BEGIN:VTIMEZONE
TZID:Asia/Hong_Kong
BEGIN:STANDARD
DTSTART:20071104T020000
TZOFFSETFROM:+0700
TZOFFSETTO:+0800
TZNAME:HKT
END:STANDARD
END:VTIMEZONE
BEGIN:VEVENT
DTSTAMP;TZID=Asia/Hong_Kong:20260420T180842
DTSTART;TZID=Asia/Hong_Kong:20250716T150000
DTEND;TZID=Asia/Hong_Kong:20250716T173000
LOCATION:Charles K. Kao Auditorium, Hong Kong Science Park
SUMMARY:HKRITA\'s I&T Symposium - Navigating Change: United for a Sustainable Future!
UID:44580
END:VEVENT
END:VCALENDAR