BEGIN:VCALENDAR
PRODID:-//HKUST Drupal Platform//EN
VERSION:2.0
BEGIN:VTIMEZONE
TZID:Asia/Hong_Kong
BEGIN:STANDARD
DTSTART:20071104T020000
TZOFFSETFROM:+0700
TZOFFSETTO:+0800
TZNAME:HKT
END:STANDARD
END:VTIMEZONE
BEGIN:VEVENT
DTSTAMP;TZID=Asia/Hong_Kong:20260421T005100
DTSTART;TZID=Asia/Hong_Kong:20250821T093000
DTEND;TZID=Asia/Hong_Kong:20250821T123000
LOCATION: , HKUST
SUMMARY:MPhil in Environmental Engg - Transformation of dissolved organic matter and its model compounds by dichlorine monoxide and the corresponding generation of chloro-organic byproducts
UID:44547
END:VEVENT
END:VCALENDAR