BEGIN:VCALENDAR
PRODID:-//HKUST Drupal Platform//EN
VERSION:2.0
BEGIN:VTIMEZONE
TZID:Asia/Hong_Kong
BEGIN:STANDARD
DTSTART:20071104T020000
TZOFFSETFROM:+0700
TZOFFSETTO:+0800
TZNAME:HKT
END:STANDARD
END:VTIMEZONE
BEGIN:VEVENT
DTSTAMP;TZID=Asia/Hong_Kong:20260420T222014
DTSTART;TZID=Asia/Hong_Kong:20250730T100000
DTEND;TZID=Asia/Hong_Kong:20250730T130000
LOCATION:Room 4504 (Lifts 25-26), 4/F Academic Building, HKUST
SUMMARY:MPhil in Life Science - Pseudouridine Writer Pus1 Regulates Drosophila Germline Stem Cell Maintenance and Aging in Neurons
UID:44533
END:VEVENT
END:VCALENDAR