BEGIN:VCALENDAR
PRODID:-//HKUST Drupal Platform//EN
VERSION:2.0
BEGIN:VTIMEZONE
TZID:Asia/Hong_Kong
BEGIN:STANDARD
DTSTART:20071104T020000
TZOFFSETFROM:+0700
TZOFFSETTO:+0800
TZNAME:HKT
END:STANDARD
END:VTIMEZONE
BEGIN:VEVENT
DTSTAMP;TZID=Asia/Hong_Kong:20260420T235059
DTSTART;TZID=Asia/Hong_Kong:20250728T140000
DTEND;TZID=Asia/Hong_Kong:20250728T170000
LOCATION:Room 201, 2/F, W2 Academic Building, Guangzhou Campus, HKUST
SUMMARY:PHD in Individual Interdisci Prog - Optics-Based Microfluidic Point-of-Care Testing Platforms: From Molecular Diagnostic to Cells and Immune Detection
UID:44487
END:VEVENT
END:VCALENDAR