BEGIN:VCALENDAR
PRODID:-//HKUST Drupal Platform//EN
VERSION:2.0
BEGIN:VTIMEZONE
TZID:Asia/Hong_Kong
BEGIN:STANDARD
DTSTART:20071104T020000
TZOFFSETFROM:+0700
TZOFFSETTO:+0800
TZNAME:HKT
END:STANDARD
END:VTIMEZONE
BEGIN:VEVENT
DTSTAMP;TZID=Asia/Hong_Kong:20260420T222000
DTSTART;TZID=Asia/Hong_Kong:20250808T160000
DTEND;TZID=Asia/Hong_Kong:20250808T190000
LOCATION: , HKUST
SUMMARY:MPhil in Electronic & Comp Engg - AI-assisted Middle-End Optimization for High-Level Synthesis Designs on FPGA
UID:44473
END:VEVENT
END:VCALENDAR