BEGIN:VCALENDAR
PRODID:-//HKUST Drupal Platform//EN
VERSION:2.0
BEGIN:VTIMEZONE
TZID:Asia/Hong_Kong
BEGIN:STANDARD
DTSTART:20071104T020000
TZOFFSETFROM:+0700
TZOFFSETTO:+0800
TZNAME:HKT
END:STANDARD
END:VTIMEZONE
BEGIN:VEVENT
DTSTAMP;TZID=Asia/Hong_Kong:20260423T061947
DTSTART;TZID=Asia/Hong_Kong:20250709T140000
DTEND;TZID=Asia/Hong_Kong:20250709T170000
LOCATION:Room 101, E1 Building, HKUST(GZ)  Zoom ID: 967 5936 2663 Pc: ipe Zoom Link: https://hkust-gz-edu-cn.zoom.us/j/96759362663?pwd=VofoCXJRQgKk0NB43if6zRF0aCebbD.1, HKUST
SUMMARY:PHD in Individual Interdisci Prog - Climate-friendly Innovations in Coal Energy: a framework for Biomass Co-firing and CCS Implementation in China
UID:44454
END:VEVENT
END:VCALENDAR