BEGIN:VCALENDAR
PRODID:-//HKUST Drupal Platform//EN
VERSION:2.0
BEGIN:VTIMEZONE
TZID:Asia/Hong_Kong
BEGIN:STANDARD
DTSTART:20071104T020000
TZOFFSETFROM:+0700
TZOFFSETTO:+0800
TZNAME:HKT
END:STANDARD
END:VTIMEZONE
BEGIN:VEVENT
DTSTAMP;TZID=Asia/Hong_Kong:20260420T221225
DTSTART;TZID=Asia/Hong_Kong:20250813T090000
DTEND;TZID=Asia/Hong_Kong:20250813T120000
LOCATION:Room 3301(Lift 2, 17-18), 3/F Academic Building, HKUST
SUMMARY:MPhil in Social Science - The Aspirations of Young Adults in Hong Kong: Marriage, Childbearing, and Values
UID:44452
END:VEVENT
END:VCALENDAR