BEGIN:VCALENDAR
PRODID:-//HKUST Drupal Platform//EN
VERSION:2.0
BEGIN:VTIMEZONE
TZID:Asia/Hong_Kong
BEGIN:STANDARD
DTSTART:20071104T020000
TZOFFSETFROM:+0700
TZOFFSETTO:+0800
TZNAME:HKT
END:STANDARD
END:VTIMEZONE
BEGIN:VEVENT
DTSTAMP;TZID=Asia/Hong_Kong:20260420T193937
DTSTART;TZID=Asia/Hong_Kong:20251203T143000
DTEND;TZID=Asia/Hong_Kong:20251203T173000
LOCATION: , HKUST
SUMMARY:MPhil in Life Science - High-throughput Single Cell Study of Gene Expression in Bacteria: Experiment, Inference, Prediction
UID:44449
END:VEVENT
END:VCALENDAR