BEGIN:VCALENDAR
PRODID:-//HKUST Drupal Platform//EN
VERSION:2.0
BEGIN:VTIMEZONE
TZID:Asia/Hong_Kong
BEGIN:STANDARD
DTSTART:20071104T020000
TZOFFSETFROM:+0700
TZOFFSETTO:+0800
TZNAME:HKT
END:STANDARD
END:VTIMEZONE
BEGIN:VEVENT
DTSTAMP;TZID=Asia/Hong_Kong:20260420T222025
DTSTART;TZID=Asia/Hong_Kong:20250807T140000
DTEND;TZID=Asia/Hong_Kong:20250807T170000
LOCATION: , HKUST
SUMMARY:MPhil in Marine Environmental Sci - Assessing the physiological responses of chlorine-induced viable but non-culturable (VBNC) Escherichia coli and Enterococcus faecium in sewage effluent
UID:44436
END:VEVENT
END:VCALENDAR