BEGIN:VCALENDAR
PRODID:-//HKUST Drupal Platform//EN
VERSION:2.0
BEGIN:VTIMEZONE
TZID:Asia/Hong_Kong
BEGIN:STANDARD
DTSTART:20071104T020000
TZOFFSETFROM:+0700
TZOFFSETTO:+0800
TZNAME:HKT
END:STANDARD
END:VTIMEZONE
BEGIN:VEVENT
DTSTAMP;TZID=Asia/Hong_Kong:20260420T221123
DTSTART;TZID=Asia/Hong_Kong:20250618T000000
DTEND;TZID=Asia/Hong_Kong:20250702T235900
SUMMARY:中国移动香港有限公司研发合作需求：AI+室内无线设计专业工具
UID:44421
END:VEVENT
END:VCALENDAR