BEGIN:VCALENDAR
PRODID:-//HKUST Drupal Platform//EN
VERSION:2.0
BEGIN:VTIMEZONE
TZID:Asia/Hong_Kong
BEGIN:STANDARD
DTSTART:20071104T020000
TZOFFSETFROM:+0700
TZOFFSETTO:+0800
TZNAME:HKT
END:STANDARD
END:VTIMEZONE
BEGIN:VEVENT
DTSTAMP;TZID=Asia/Hong_Kong:20260420T234118
DTSTART;TZID=Asia/Hong_Kong:20250715T150000
DTEND;TZID=Asia/Hong_Kong:20250715T180000
LOCATION: , HKUST
SUMMARY:PHD in Bioengineering - Deep Learning-Enabled Virtual Histological Staining: Advancing Rapid Pathology via Generative Models and Optical Imaging
UID:44366
END:VEVENT
END:VCALENDAR