BEGIN:VCALENDAR
PRODID:-//HKUST Drupal Platform//EN
VERSION:2.0
BEGIN:VTIMEZONE
TZID:Asia/Hong_Kong
BEGIN:STANDARD
DTSTART:20071104T020000
TZOFFSETFROM:+0700
TZOFFSETTO:+0800
TZNAME:HKT
END:STANDARD
END:VTIMEZONE
BEGIN:VEVENT
DTSTAMP;TZID=Asia/Hong_Kong:20260423T061949
DTSTART;TZID=Asia/Hong_Kong:20250709T153000
DTEND;TZID=Asia/Hong_Kong:20250709T183000
LOCATION:Room 2504 (Lifts 25-26), 2/F Academic Building, HKUST
SUMMARY:PHD in Mathematics - Structures of Higher Genus Quantum Singularity Theory via Mixed Spin P-Field Theory
UID:44352
END:VEVENT
END:VCALENDAR