BEGIN:VCALENDAR
PRODID:-//HKUST Drupal Platform//EN
VERSION:2.0
BEGIN:VTIMEZONE
TZID:Asia/Hong_Kong
BEGIN:STANDARD
DTSTART:20071104T020000
TZOFFSETFROM:+0700
TZOFFSETTO:+0800
TZNAME:HKT
END:STANDARD
END:VTIMEZONE
BEGIN:VEVENT
DTSTAMP;TZID=Asia/Hong_Kong:20260420T234128
DTSTART;TZID=Asia/Hong_Kong:20250714T140000
DTEND;TZID=Asia/Hong_Kong:20250714T170000
LOCATION: , HKUST
SUMMARY:MPhil in Computer Science & Engg - Smart Inlining: Splitting the Difference for Functional Program Optimization
UID:44266
END:VEVENT
END:VCALENDAR