BEGIN:VCALENDAR
PRODID:-//HKUST Drupal Platform//EN
VERSION:2.0
BEGIN:VTIMEZONE
TZID:Asia/Hong_Kong
BEGIN:STANDARD
DTSTART:20071104T020000
TZOFFSETFROM:+0700
TZOFFSETTO:+0800
TZNAME:HKT
END:STANDARD
END:VTIMEZONE
BEGIN:VEVENT
DTSTAMP;TZID=Asia/Hong_Kong:20260421T000103
DTSTART;TZID=Asia/Hong_Kong:20250723T100000
DTEND;TZID=Asia/Hong_Kong:20250723T130000
LOCATION: , HKUST
SUMMARY:PHD in Atmospheric Envrl Science - Reassessing Health Risks of VOC Sources in Hong Kong Ambient Air: Insights from New Photochemical Evolution Estimates
UID:44241
END:VEVENT
END:VCALENDAR