BEGIN:VCALENDAR
PRODID:-//HKUST Drupal Platform//EN
VERSION:2.0
BEGIN:VTIMEZONE
TZID:Asia/Hong_Kong
BEGIN:STANDARD
DTSTART:20071104T020000
TZOFFSETFROM:+0700
TZOFFSETTO:+0800
TZNAME:HKT
END:STANDARD
END:VTIMEZONE
BEGIN:VEVENT
DTSTAMP;TZID=Asia/Hong_Kong:20260420T235104
DTSTART;TZID=Asia/Hong_Kong:20250723T163500
DTEND;TZID=Asia/Hong_Kong:20250723T193500
LOCATION: , HKUST
SUMMARY:MPhil in Atmospheric Envrl Sci - Analysis of Malodorous Sulfur Gases in Hong Kong Ambient Air Using Gas Chromatography and Dispersion Modeling
UID:44229
END:VEVENT
END:VCALENDAR