BEGIN:VCALENDAR
PRODID:-//HKUST Drupal Platform//EN
VERSION:2.0
BEGIN:VTIMEZONE
TZID:Asia/Hong_Kong
BEGIN:STANDARD
DTSTART:20071104T020000
TZOFFSETFROM:+0700
TZOFFSETTO:+0800
TZNAME:HKT
END:STANDARD
END:VTIMEZONE
BEGIN:VEVENT
DTSTAMP;TZID=Asia/Hong_Kong:20260423T072726
DTSTART;TZID=Asia/Hong_Kong:20250702T133000
DTEND;TZID=Asia/Hong_Kong:20250702T163000
LOCATION: , HKUST
SUMMARY:MPhil in Envrl Sci, Policy & Mgmt - Extreme Heat Risks on the Mental Well-being of Older Adults Fast-Urbanising China
UID:44179
END:VEVENT
END:VCALENDAR