BEGIN:VCALENDAR
PRODID:-//HKUST Drupal Platform//EN
VERSION:2.0
BEGIN:VTIMEZONE
TZID:Asia/Hong_Kong
BEGIN:STANDARD
DTSTART:20071104T020000
TZOFFSETFROM:+0700
TZOFFSETTO:+0800
TZNAME:HKT
END:STANDARD
END:VTIMEZONE
BEGIN:VEVENT
DTSTAMP;TZID=Asia/Hong_Kong:20260425T224549
DTSTART;TZID=Asia/Hong_Kong:20250606T143000
DTEND;TZID=Asia/Hong_Kong:20250606T173000
LOCATION:E1-202, HKUST(GZ) / Zoom ID: 965 0939 5528, Passcode: dsa2025, HKUST
SUMMARY:PHD in Individual Interdisci Prog - Dynamical System Learning via Geometric Graph Neural Networks and Transformers
UID:44168
END:VEVENT
END:VCALENDAR