BEGIN:VCALENDAR
PRODID:-//HKUST Drupal Platform//EN
VERSION:2.0
BEGIN:VTIMEZONE
TZID:Asia/Hong_Kong
BEGIN:STANDARD
DTSTART:20071104T020000
TZOFFSETFROM:+0700
TZOFFSETTO:+0800
TZNAME:HKT
END:STANDARD
END:VTIMEZONE
BEGIN:VEVENT
DTSTAMP;TZID=Asia/Hong_Kong:20260425T220744
DTSTART;TZID=Asia/Hong_Kong:20250609T143000
DTEND;TZID=Asia/Hong_Kong:20250609T173000
LOCATION:Room 4475 (Lifts 27-28), 4/F Academic Building, HKUST
SUMMARY:PHD in Nano Science & Technology - Atomic-Design Enabled Multifunctionality in Deep-sea, Cluster Catalysis and 2D materials Systems via Advanced Transmission Electron Microscopy
UID:44147
END:VEVENT
END:VCALENDAR