BEGIN:VCALENDAR
PRODID:-//HKUST Drupal Platform//EN
VERSION:2.0
BEGIN:VTIMEZONE
TZID:Asia/Hong_Kong
BEGIN:STANDARD
DTSTART:20071104T020000
TZOFFSETFROM:+0700
TZOFFSETTO:+0800
TZNAME:HKT
END:STANDARD
END:VTIMEZONE
BEGIN:VEVENT
DTSTAMP;TZID=Asia/Hong_Kong:20260423T072737
DTSTART;TZID=Asia/Hong_Kong:20250630T153000
DTEND;TZID=Asia/Hong_Kong:20250630T183000
LOCATION: , HKUST
SUMMARY:PHD in Nano Science & Technology - Generation and Applications of “Collective Photonic Nanojets”
UID:44146
END:VEVENT
END:VCALENDAR