BEGIN:VCALENDAR
PRODID:-//HKUST Drupal Platform//EN
VERSION:2.0
BEGIN:VTIMEZONE
TZID:Asia/Hong_Kong
BEGIN:STANDARD
DTSTART:20071104T020000
TZOFFSETFROM:+0700
TZOFFSETTO:+0800
TZNAME:HKT
END:STANDARD
END:VTIMEZONE
BEGIN:VEVENT
DTSTAMP;TZID=Asia/Hong_Kong:20260426T092254
DTSTART;TZID=Asia/Hong_Kong:20250610T100000
DTEND;TZID=Asia/Hong_Kong:20250610T130000
LOCATION:Room 2302 (Lifts 17-18), 2/F Academic Building,, HKUST
SUMMARY:PHD in Atmospheric Envrl Science - Crucial Role of Oxygenated Volatile Organic Compounds in Atmospheric Photochemistry in subtropical Hong Kong
UID:44141
END:VEVENT
END:VCALENDAR