BEGIN:VCALENDAR
PRODID:-//HKUST Drupal Platform//EN
VERSION:2.0
BEGIN:VTIMEZONE
TZID:Asia/Hong_Kong
BEGIN:STANDARD
DTSTART:20071104T020000
TZOFFSETFROM:+0700
TZOFFSETTO:+0800
TZNAME:HKT
END:STANDARD
END:VTIMEZONE
BEGIN:VEVENT
DTSTAMP;TZID=Asia/Hong_Kong:20260420T142918
DTSTART;TZID=Asia/Hong_Kong:20250514T143000
DTEND;TZID=Asia/Hong_Kong:20250514T153000
LOCATION:Room 3598 (Lift 27/28), HKUST
SUMMARY:Civil Engineering Departmental Seminar  - Production of sustainable cement through microwave-fiber induced plasma processing
UID:44135
END:VEVENT
END:VCALENDAR