BEGIN:VCALENDAR
PRODID:-//HKUST Drupal Platform//EN
VERSION:2.0
BEGIN:VTIMEZONE
TZID:Asia/Hong_Kong
BEGIN:STANDARD
DTSTART:20071104T020000
TZOFFSETFROM:+0700
TZOFFSETTO:+0800
TZNAME:HKT
END:STANDARD
END:VTIMEZONE
BEGIN:VEVENT
DTSTAMP;TZID=Asia/Hong_Kong:20260425T220741
DTSTART;TZID=Asia/Hong_Kong:20250605T140000
DTEND;TZID=Asia/Hong_Kong:20250605T170000
LOCATION:Room 4502 (Lifts 25-26), 4/F Academic Building, HKUST
SUMMARY:PHD in Life Science - Deciphering the Role of Telomeres in the DNA Damage Response and Chromosome Instability Using CRISPR/Cas9
UID:44054
END:VEVENT
END:VCALENDAR