BEGIN:VCALENDAR
PRODID:-//HKUST Drupal Platform//EN
VERSION:2.0
BEGIN:VTIMEZONE
TZID:Asia/Hong_Kong
BEGIN:STANDARD
DTSTART:20071104T020000
TZOFFSETFROM:+0700
TZOFFSETTO:+0800
TZNAME:HKT
END:STANDARD
END:VTIMEZONE
BEGIN:VEVENT
DTSTAMP;TZID=Asia/Hong_Kong:20260420T192629
DTSTART;TZID=Asia/Hong_Kong:20250505T000000
DTEND;TZID=Asia/Hong_Kong:20250516T235900
LOCATION:HKUST
SUMMARY:Win $2,000 for a Michelin Restaurant! #EatForThePlanet: End Game - JCSCCP
UID:44035
END:VEVENT
END:VCALENDAR