BEGIN:VCALENDAR
PRODID:-//HKUST Drupal Platform//EN
VERSION:2.0
BEGIN:VTIMEZONE
TZID:Asia/Hong_Kong
BEGIN:STANDARD
DTSTART:20071104T020000
TZOFFSETFROM:+0700
TZOFFSETTO:+0800
TZNAME:HKT
END:STANDARD
END:VTIMEZONE
BEGIN:VEVENT
DTSTAMP;TZID=Asia/Hong_Kong:20260425T220742
DTSTART;TZID=Asia/Hong_Kong:20250520T093000
DTEND;TZID=Asia/Hong_Kong:20250520T123000
LOCATION:Room 5554 (Lifts 27-28), 5/F Academic Building, HKUST
SUMMARY:PHD in Industrial Engg & Deci Ana - Essays on Integration of Theoretical and Empirical Analyses in Operations Management
UID:44024
END:VEVENT
END:VCALENDAR