BEGIN:VCALENDAR
PRODID:-//HKUST Drupal Platform//EN
VERSION:2.0
BEGIN:VTIMEZONE
TZID:Asia/Hong_Kong
BEGIN:STANDARD
DTSTART:20071104T020000
TZOFFSETFROM:+0700
TZOFFSETTO:+0800
TZNAME:HKT
END:STANDARD
END:VTIMEZONE
BEGIN:VEVENT
DTSTAMP;TZID=Asia/Hong_Kong:20260426T062737
DTSTART;TZID=Asia/Hong_Kong:20250528T150000
DTEND;TZID=Asia/Hong_Kong:20250528T180000
LOCATION:Room 4472 (Lifts 25-26), 4/F Academic Building, HKUST
SUMMARY:PHD in Physics - Quantum Simulation of Non-Hermitian Quantum Dynamics in Spin-Orbit Coupled Fermionic Gas
UID:43945
END:VEVENT
END:VCALENDAR