BEGIN:VCALENDAR
PRODID:-//HKUST Drupal Platform//EN
VERSION:2.0
BEGIN:VTIMEZONE
TZID:Asia/Hong_Kong
BEGIN:STANDARD
DTSTART:20071104T020000
TZOFFSETFROM:+0700
TZOFFSETTO:+0800
TZNAME:HKT
END:STANDARD
END:VTIMEZONE
BEGIN:VEVENT
DTSTAMP;TZID=Asia/Hong_Kong:20260420T221220
DTSTART;TZID=Asia/Hong_Kong:20250507T180000
DTEND;TZID=Asia/Hong_Kong:20250507T193000
LOCATION:Lam Woo Lecture Theater (LT-B), The Hong Kong University of Science and Technology, Clear Water Bay, Kowloon, Hong Kong
SUMMARY:City of Shells: Our Forgotten Oyster Reefs - Documentary Screening & Sharing by The Nature Conservancy
UID:43940
END:VEVENT
END:VCALENDAR