BEGIN:VCALENDAR
PRODID:-//HKUST Drupal Platform//EN
VERSION:2.0
BEGIN:VTIMEZONE
TZID:Asia/Hong_Kong
BEGIN:STANDARD
DTSTART:20071104T020000
TZOFFSETFROM:+0700
TZOFFSETTO:+0800
TZNAME:HKT
END:STANDARD
END:VTIMEZONE
BEGIN:VEVENT
DTSTAMP;TZID=Asia/Hong_Kong:20260426T010020
DTSTART;TZID=Asia/Hong_Kong:20250528T100000
DTEND;TZID=Asia/Hong_Kong:20250528T130000
LOCATION:Onsite: Room 2128A, HKUST / Online: Zoom link: https://hkust-gz-edu-cn.zoom.us/j/98823915033?pwd=X6qYTaB3mo5GAFxVt1Pqr11LTXsChR.1  Zoom ID: 988 2391 5033  Passcode: Fintech, HKUST
SUMMARY:PHD in Individual Interdisci Prog - Two Essays in Asset Pring and FinTech: Out-of-Sample Equity Premium Predictability and Stock Co-jump Networks with Mixed Membership
UID:43932
END:VEVENT
END:VCALENDAR