BEGIN:VCALENDAR
PRODID:-//HKUST Drupal Platform//EN
VERSION:2.0
BEGIN:VTIMEZONE
TZID:Asia/Hong_Kong
BEGIN:STANDARD
DTSTART:20071104T020000
TZOFFSETFROM:+0700
TZOFFSETTO:+0800
TZNAME:HKT
END:STANDARD
END:VTIMEZONE
BEGIN:VEVENT
DTSTAMP;TZID=Asia/Hong_Kong:20260426T010018
DTSTART;TZID=Asia/Hong_Kong:20250609T150000
DTEND;TZID=Asia/Hong_Kong:20250609T180000
LOCATION:Room 3301(Lift 2, 17-18), 3/F Academic Building, HKUST
SUMMARY:MPhil in Humanities - 再谈儒学宗教性——以对晚明关中书院讲会生活的考察为例
UID:43930
END:VEVENT
END:VCALENDAR